BEGIN:VCALENDAR
VERSION:2.0
PRODID:-//Boston Harbor PTA - ECPv6.15.20//NONSGML v1.0//EN
CALSCALE:GREGORIAN
METHOD:PUBLISH
X-WR-CALNAME:Boston Harbor PTA
X-ORIGINAL-URL:https://bhspta.org
X-WR-CALDESC:Events for Boston Harbor PTA
REFRESH-INTERVAL;VALUE=DURATION:PT1H
X-Robots-Tag:noindex
X-PUBLISHED-TTL:PT1H
BEGIN:VTIMEZONE
TZID:UTC
BEGIN:STANDARD
TZOFFSETFROM:+0000
TZOFFSETTO:+0000
TZNAME:UTC
DTSTART:20190101T000000
END:STANDARD
END:VTIMEZONE
BEGIN:VEVENT
DTSTART;TZID=UTC:20220914T180000
DTEND;TZID=UTC:20220914T190000
DTSTAMP:20260424T230102
CREATED:20220817T043331Z
LAST-MODIFIED:20220819T203912Z
UID:2247-1663178400-1663182000@bhspta.org
SUMMARY:First PTA Meeting
DESCRIPTION:
URL:https://bhspta.org/events/first-pta-meeting/
LOCATION:BHES\, 7300 Zangle Rd NE\, Olympia\, 98506
CATEGORIES:PTA Meetings
END:VEVENT
BEGIN:VEVENT
DTSTART;TZID=UTC:20220914T173000
DTEND;TZID=UTC:20220914T180000
DTSTAMP:20260424T230102
CREATED:20220907T222407Z
LAST-MODIFIED:20220907T222407Z
UID:2949-1663176600-1663178400@bhspta.org
SUMMARY:First Garden Club Meeting
DESCRIPTION:
URL:https://bhspta.org/events/first-garden-club-meeting/
END:VEVENT
BEGIN:VEVENT
DTSTART;TZID=UTC:20220914T075000
DTEND;TZID=UTC:20220914T132500
DTSTAMP:20260424T230102
CREATED:20220819T220926Z
LAST-MODIFIED:20220819T220926Z
UID:2621-1663141800-1663161900@bhspta.org
SUMMARY:First Wednesday Early Release - 1:25 Dismissal
DESCRIPTION:
URL:https://bhspta.org/events/first-wednesday-early-release-125-dismissal/
LOCATION:BHES\, 7300 Zangle Rd NE\, Olympia\, 98506
END:VEVENT
BEGIN:VEVENT
DTSTART;TZID=UTC:20220912T080000
DTEND;TZID=UTC:20220912T090000
DTSTAMP:20260424T230102
CREATED:20220901T020619Z
LAST-MODIFIED:20220907T041911Z
UID:2800-1662969600-1662973200@bhspta.org
SUMMARY:Tears and Cheers Breakfast - Kindergarten Parents
DESCRIPTION:
URL:https://bhspta.org/events/tears-and-cheers-breakfast-kindergarten-parents/
LOCATION:BHES\, 7300 Zangle Rd NE\, Olympia\, 98506
ATTACH;FMTTYPE=image/png:https://bhspta.org/wp-content/uploads/2022/09/Tears-Cheers-Breakfast.png
END:VEVENT
BEGIN:VEVENT
DTSTART;TZID=UTC:20220912T075000
DTEND;TZID=UTC:20220912T141500
DTSTAMP:20260424T230102
CREATED:20220817T025408Z
LAST-MODIFIED:20220907T041757Z
UID:2211-1662969000-1662992100@bhspta.org
SUMMARY:First Day of Kindergarten
DESCRIPTION:
URL:https://bhspta.org/events/first-day-of-kindergarten-3/
LOCATION:BHES\, 7300 Zangle Rd NE\, Olympia\, 98506
ATTACH;FMTTYPE=image/png:https://bhspta.org/wp-content/uploads/2022/08/Welcome.png
END:VEVENT
BEGIN:VEVENT
DTSTART;TZID=UTC:20220907T075000
DTEND;TZID=UTC:20220907T141500
DTSTAMP:20260424T230102
CREATED:20220819T205616Z
LAST-MODIFIED:20220907T033847Z
UID:2581-1662537000-1662560100@bhspta.org
SUMMARY:First Day of School
DESCRIPTION:
URL:https://bhspta.org/events/first-day-of-school-3/
LOCATION:BHES\, 7300 Zangle Rd NE\, Olympia\, 98506
ATTACH;FMTTYPE=image/png:https://bhspta.org/wp-content/uploads/2022/08/Happy-First-Day-of-School.png
END:VEVENT
BEGIN:VEVENT
DTSTART;TZID=UTC:20220906T110000
DTEND;TZID=UTC:20220906T130000
DTSTAMP:20260424T230102
CREATED:20220824T044148Z
LAST-MODIFIED:20220824T045707Z
UID:2769-1662462000-1662469200@bhspta.org
SUMMARY:Back to School Ice Cream Social & School Supply Drop-Off
DESCRIPTION:Back to School Ice Cream Social & School Supply Drop-Off Tuesday\, September 6th ~ 11:00-1:00 \nPlease join us for our “Back to School” Ice Cream Social! \n● Drop off school supplies and emergency kits in the classroom and meet teachers anytime on Tuesday afternoon between 11:00-1:00 \n● Stop by the PTA table in the cafeteria for some ice cream treats and meet the new members and pick up important information \n● Back to School packets from the office can be picked up in each of the classrooms. These packets include: volunteer info\, district calendars\, and other important paperwork that needs to be updated/completed and returned to the office as soon as possible \n● Student medications and paperwork may also be dropped off at the office during this time.
URL:https://bhspta.org/events/back-to-school-ice-cream-social-school-supply-drop-off/
LOCATION:BHES\, 7300 Zangle Rd NE\, Olympia\, 98506
CATEGORIES:School Event
ATTACH;FMTTYPE=image/png:https://bhspta.org/wp-content/uploads/2022/08/BHES-Back-to-School-Supply-Drop-Off-Ice-Cream-Social-Tuesday-Sept.-6-11-1.png
END:VEVENT
BEGIN:VEVENT
DTSTART;TZID=UTC:20220901T153000
DTEND;TZID=UTC:20220901T163000
DTSTAMP:20260424T230102
CREATED:20220824T051030Z
LAST-MODIFIED:20220824T051030Z
UID:2783-1662046200-1662049800@bhspta.org
SUMMARY:Kindergarten Meet & Greet
DESCRIPTION:Do you have an incoming Kindergartner? You are invited to meet your fellow BHES Kindergartners and families at the school playground on Thursday September 1st 3:30-4:30. Mrs. Johnson (Kindergarten Teacher)\, Mrs. Brotherton (Principal) and Ms. Bogart (School Secretary) will also join. Popsicles will be provided!
URL:https://bhspta.org/events/kindergarten-meet-greet-2/
CATEGORIES:School Event
ATTACH;FMTTYPE=image/jpeg:https://bhspta.org/wp-content/uploads/2022/08/IMG_2695.jpg
END:VEVENT
BEGIN:VEVENT
DTSTART;TZID=UTC:20220831T100000
DTEND;TZID=UTC:20220831T120000
DTSTAMP:20260424T230102
CREATED:20220822T213519Z
LAST-MODIFIED:20220822T213519Z
UID:2754-1661940000-1661947200@bhspta.org
SUMMARY:Garden Clean Up and Fall Sowing
DESCRIPTION:
URL:https://bhspta.org/events/garden-clean-up-and-fall-sowing/
LOCATION:BHES\, 7300 Zangle Rd NE\, Olympia\, 98506
ATTACH;FMTTYPE=image/jpeg:https://bhspta.org/wp-content/uploads/2022/08/image0-1.jpeg
END:VEVENT
BEGIN:VEVENT
DTSTART;TZID=UTC:20220829T170000
DTEND;TZID=UTC:20220829T190000
DTSTAMP:20260424T230102
CREATED:20220820T031137Z
LAST-MODIFIED:20220820T031137Z
UID:2721-1661792400-1661799600@bhspta.org
SUMMARY:2021-2022 PTA Financial Audit
DESCRIPTION:Email Treasurer Trina Delaney at treasurer@bhspta.org for more details if you would like to attend.
URL:https://bhspta.org/events/2021-2022-pta-financial-audit/
END:VEVENT
BEGIN:VEVENT
DTSTART;TZID=UTC:20210811T163000
DTEND;TZID=UTC:20210811T173000
DTSTAMP:20260424T230102
CREATED:20210704T155526Z
LAST-MODIFIED:20210704T155526Z
UID:1903-1628699400-1628703000@bhspta.org
SUMMARY:Watering Wednesday
DESCRIPTION:Come help us get the school garden back into shape. Join us for some volunteer time every Wednesday through the summer to weed\, water & enjoy the weather! Grab your gloves and help our garden thrive again!
URL:https://bhspta.org/events/watering-wednesday-6/
END:VEVENT
BEGIN:VEVENT
DTSTART;TZID=UTC:20210804T163000
DTEND;TZID=UTC:20210804T173000
DTSTAMP:20260424T230102
CREATED:20210704T155458Z
LAST-MODIFIED:20210704T155458Z
UID:1901-1628094600-1628098200@bhspta.org
SUMMARY:Watering Wednesday
DESCRIPTION:Come help us get the school garden back into shape. Join us for some volunteer time every Wednesday through the summer to weed\, water & enjoy the weather! Grab your gloves and help our garden thrive again!
URL:https://bhspta.org/events/watering-wednesday-5/
END:VEVENT
BEGIN:VEVENT
DTSTART;TZID=UTC:20210728T163000
DTEND;TZID=UTC:20210728T173000
DTSTAMP:20260424T230102
CREATED:20210704T155411Z
LAST-MODIFIED:20210704T155411Z
UID:1899-1627489800-1627493400@bhspta.org
SUMMARY:Watering Wednesday
DESCRIPTION:Come help us get the school garden back into shape. Join us for some volunteer time every Wednesday through the summer to weed\, water & enjoy the weather! Grab your gloves and help our garden thrive again!
URL:https://bhspta.org/events/watering-wednesday-4/
END:VEVENT
BEGIN:VEVENT
DTSTART;TZID=UTC:20210721T163000
DTEND;TZID=UTC:20210721T173000
DTSTAMP:20260424T230102
CREATED:20210704T155326Z
LAST-MODIFIED:20210704T155342Z
UID:1897-1626885000-1626888600@bhspta.org
SUMMARY:Watering Wednesday
DESCRIPTION:Come help us get the school garden back into shape. Join us for some volunteer time every Wednesday through the summer to weed\, water & enjoy the weather! Grab your gloves and help our garden thrive again!
URL:https://bhspta.org/events/watering-wednesday-3/
END:VEVENT
BEGIN:VEVENT
DTSTART;TZID=UTC:20210714T163000
DTEND;TZID=UTC:20210714T173000
DTSTAMP:20260424T230102
CREATED:20210704T155250Z
LAST-MODIFIED:20210704T155250Z
UID:1893-1626280200-1626283800@bhspta.org
SUMMARY:Watering Wednesday
DESCRIPTION:Come help us get the school garden back into shape. Join us for some volunteer time every Wednesday through the summer to weed\, water & enjoy the weather! Grab your gloves and help our garden thrive again!
URL:https://bhspta.org/events/watering-wednesday-2/
END:VEVENT
BEGIN:VEVENT
DTSTART;TZID=UTC:20210707T163000
DTEND;TZID=UTC:20210707T173000
DTSTAMP:20260424T230102
CREATED:20210704T155149Z
LAST-MODIFIED:20210704T155149Z
UID:1891-1625675400-1625679000@bhspta.org
SUMMARY:Watering Wednesday
DESCRIPTION:Come help us get the school garden back into shape. Join us for some volunteer time every Wednesday through the summer to weed\, water & enjoy the weather! Grab your gloves and help our garden thrive again!
URL:https://bhspta.org/events/watering-wednesday/
END:VEVENT
BEGIN:VEVENT
DTSTART;TZID=UTC:20210621T090000
DTEND;TZID=UTC:20210621T100000
DTSTAMP:20260424T230102
CREATED:20210602T143330Z
LAST-MODIFIED:20210602T143330Z
UID:1869-1624266000-1624269600@bhspta.org
SUMMARY:End of Year Virtual Assembly
DESCRIPTION:Please mark your calendars for Monday\, June 21st @ 9:00 a.m. for an End of Year Virtual Assembly. More info to come.
URL:https://bhspta.org/events/end-of-year-virtual-assembly/
END:VEVENT
BEGIN:VEVENT
DTSTART;TZID=UTC:20210609T180000
DTEND;TZID=UTC:20210609T190000
DTSTAMP:20260424T230102
CREATED:20210602T143232Z
LAST-MODIFIED:20210609T162743Z
UID:1867-1623261600-1623265200@bhspta.org
SUMMARY:June's PTA Meeting
DESCRIPTION:Final PTA Meeting of the Year- TONIGHT! \nJoin us tonight for the final BHES PTA membership meeting of the school year at 6:00pm on Zoom. We will vote to approve the PTA budget for next school year. For those who would like to review next year’s BHES PTA budget prior to the meeting\, you can find that here: https://bhspta.org/…/05/PTA-Budget-Report2-2021-2022.pdf \nTonight’s PTA Meeting Details\nhttps://us02web.zoom.us/j/89452106226\nMeeting ID: 894 5210 6226 \nOptional Meet up at Burfoot Park Tonight After Zoom Meeting\nThe PTA has reserved the main shelter at Burfoot park from 7:15-8:30pm this evening for an optional meet in person after the zoom meeting for an evening of food & play. All CDC guidelines for safety will be followed. If interested please bring a dish or individually wrapped item for potluck.
URL:https://bhspta.org/events/junes-pta-meeting/
END:VEVENT
BEGIN:VEVENT
DTSTART;TZID=UTC:20210609T090000
DTEND;TZID=UTC:20210609T140000
DTSTAMP:20260424T230102
CREATED:20210602T143515Z
LAST-MODIFIED:20210602T143515Z
UID:1871-1623229200-1623247200@bhspta.org
SUMMARY:Meet & Greet and Screenings for Incoming Kindergarteners
DESCRIPTION:
URL:https://bhspta.org/events/meet-greet-and-screenings-for-incoming-kindergarteners/
END:VEVENT
BEGIN:VEVENT
DTSTART;TZID=UTC:20210512T180000
DTEND;TZID=UTC:20210512T190000
DTSTAMP:20260424T230102
CREATED:20210424T170102Z
LAST-MODIFIED:20210424T170257Z
UID:1825-1620842400-1620846000@bhspta.org
SUMMARY:PTA Meeting
DESCRIPTION:May’s BHES PTA Meeting\nWe invite everyone to join us on Wednesday\, May 12th at 6pm for this month’s PTA membership meeting. \nMay’s PTA Meeting Details\nhttps://us02web.zoom.us/j/89452106226\nMeeting ID: 894 5210 6226
URL:https://bhspta.org/events/pta-meeting-13/
END:VEVENT
BEGIN:VEVENT
DTSTART;TZID=UTC:20210414T180000
DTEND;TZID=UTC:20210414T190000
DTSTAMP:20260424T230102
CREATED:20210306T194059Z
LAST-MODIFIED:20210306T194059Z
UID:1778-1618423200-1618426800@bhspta.org
SUMMARY:April's PTA Meeting
DESCRIPTION:We invite everyone to join us Wednesday\, April 14th at 6pm for April’s PTA membership meeting. \nMarch’s PTA Meeting Details\nhttps://us02web.zoom.us/j/89452106226\nMeeting ID: 894 5210 6226
URL:https://bhspta.org/events/aprils-pta-meeting/
END:VEVENT
BEGIN:VEVENT
DTSTART;VALUE=DATE:20210324
DTEND;VALUE=DATE:20210415
DTSTAMP:20260424T230102
CREATED:20210324T203429Z
LAST-MODIFIED:20210324T205158Z
UID:1803-1616544000-1618444799@bhspta.org
SUMMARY:Spring Break Read-a-Thon
DESCRIPTION:Learn more about the Spring Break Read-a-Thon here
URL:https://bhspta.org/events/spring-break-read-a-thon/
END:VEVENT
BEGIN:VEVENT
DTSTART;TZID=UTC:20210317T180000
DTEND;TZID=UTC:20210317T190000
DTSTAMP:20260424T230102
CREATED:20210306T194019Z
LAST-MODIFIED:20210306T194019Z
UID:1776-1616004000-1616007600@bhspta.org
SUMMARY:March's PTA Meeting
DESCRIPTION:We invite everyone to join us Wednesday\, March 17th at 6pm for the next PTA membership meeting. \nMarch’s PTA Meeting Details\nhttps://us02web.zoom.us/j/89452106226\nMeeting ID: 894 5210 6226
URL:https://bhspta.org/events/marchs-pta-meeting/
END:VEVENT
BEGIN:VEVENT
DTSTART;TZID=UTC:20210217T180000
DTEND;TZID=UTC:20210217T190000
DTSTAMP:20260424T230102
CREATED:20210120T051546Z
LAST-MODIFIED:20210120T051701Z
UID:1759-1613584800-1613588400@bhspta.org
SUMMARY:PTA Meeting
DESCRIPTION:Please just us digitally on Wednesday\, Feb. 17th at 6pm for the next BHES PTA meeting to discuss budget reports\, school happenings and more! \nPTA Meeting Details\nhttps://us02web.zoom.us/j/89452106226 \nMeeting ID: 894 5210 6226
URL:https://bhspta.org/events/pta-meeting-12/
END:VEVENT
BEGIN:VEVENT
DTSTART;TZID=UTC:20210122T090000
DTEND;TZID=UTC:20210122T093000
DTSTAMP:20260424T230102
CREATED:20210120T051454Z
LAST-MODIFIED:20210120T051454Z
UID:1757-1611306000-1611307800@bhspta.org
SUMMARY:Martin Luther King\, Jr. Assembly
DESCRIPTION:Please save the date for our MLK Jr Assembly that will be at 9:00 on Friday\, January 23rd.
URL:https://bhspta.org/events/martin-luther-king-jr-assembly/
END:VEVENT
BEGIN:VEVENT
DTSTART;VALUE=DATE:20210118
DTEND;VALUE=DATE:20210119
DTSTAMP:20260424T230102
CREATED:20210120T051329Z
LAST-MODIFIED:20210120T051329Z
UID:1755-1610928000-1611014399@bhspta.org
SUMMARY:MLK Day
DESCRIPTION:No school in honor of Dr. Martin Luther King\, Jr.
URL:https://bhspta.org/events/mlk-day/
END:VEVENT
BEGIN:VEVENT
DTSTART;TZID=UTC:20201221T080000
DTEND;TZID=UTC:20210101T170000
DTSTAMP:20260424T230102
CREATED:20201206T023034Z
LAST-MODIFIED:20201206T023034Z
UID:1741-1608537600-1609520400@bhspta.org
SUMMARY:Winter Break
DESCRIPTION:No School
URL:https://bhspta.org/events/winter-break-4/
END:VEVENT
BEGIN:VEVENT
DTSTART;TZID=UTC:20201218T090000
DTEND;TZID=UTC:20201218T093000
DTSTAMP:20260424T230102
CREATED:20201206T022933Z
LAST-MODIFIED:20201206T022933Z
UID:1739-1608282000-1608283800@bhspta.org
SUMMARY:December Virtual Assembly
DESCRIPTION:Please join us for our December Virtual Assembly on Friday\, December 18th @ 9:00 a.m. Also\, staff would like to invite students and families to wear a festive sweater to add some holiday cheer to the day.
URL:https://bhspta.org/events/december-virtual-assembly/
END:VEVENT
BEGIN:VEVENT
DTSTART;TZID=UTC:20201110T180000
DTEND;TZID=UTC:20201110T190000
DTSTAMP:20260424T230102
CREATED:20201012T185954Z
LAST-MODIFIED:20201012T185954Z
UID:1698-1605031200-1605034800@bhspta.org
SUMMARY:Candyce Lund Bollinger Workshop Series
DESCRIPTION:Self-Care for Parents
URL:https://bhspta.org/events/candyce-lund-bollinger-workshop-series-2/
LOCATION:Zoom
END:VEVENT
BEGIN:VEVENT
DTSTART;TZID=UTC:20201027T180000
DTEND;TZID=UTC:20201027T190000
DTSTAMP:20260424T230102
CREATED:20201012T185841Z
LAST-MODIFIED:20201012T185841Z
UID:1696-1603821600-1603825200@bhspta.org
SUMMARY:Candyce Lund Bollinger Workshop Series
DESCRIPTION:Raising Children to be Socially Community Conscious
URL:https://bhspta.org/events/candyce-lund-bollinger-workshop-series/
LOCATION:Zoom
END:VEVENT
END:VCALENDAR