BEGIN:VCALENDAR
VERSION:2.0
PRODID:-//Boston Harbor PTA - ECPv6.15.20//NONSGML v1.0//EN
CALSCALE:GREGORIAN
METHOD:PUBLISH
X-ORIGINAL-URL:https://bhspta.org
X-WR-CALDESC:Events for Boston Harbor PTA
REFRESH-INTERVAL;VALUE=DURATION:PT1H
X-Robots-Tag:noindex
X-PUBLISHED-TTL:PT1H
BEGIN:VTIMEZONE
TZID:UTC
BEGIN:STANDARD
TZOFFSETFROM:+0000
TZOFFSETTO:+0000
TZNAME:UTC
DTSTART:20220101T000000
END:STANDARD
END:VTIMEZONE
BEGIN:VEVENT
DTSTART;VALUE=DATE:20240527
DTEND;VALUE=DATE:20240528
DTSTAMP:20260424T160738
CREATED:20230818T033303Z
LAST-MODIFIED:20230818T033303Z
UID:3723-1716768000-1716854399@bhspta.org
SUMMARY:Memorial Day - No school
DESCRIPTION:
URL:https://bhspta.org/events/memorial-day-no-school-2/
END:VEVENT
BEGIN:VEVENT
DTSTART;TZID=UTC:20240414T131500
DTEND;TZID=UTC:20240414T160000
DTSTAMP:20260424T160738
CREATED:20240123T054705Z
LAST-MODIFIED:20240123T054705Z
UID:3932-1713100500-1713110400@bhspta.org
SUMMARY:Boston Harbor Elementary at Cheney Stadium
DESCRIPTION:
URL:https://bhspta.org/events/boston-harbor-elementary-at-cheney-stadium/
LOCATION:Cheney Stadium\, 2502 Tyler St.\, Tacoma\, WA\, 98405\, United States
END:VEVENT
BEGIN:VEVENT
DTSTART;VALUE=DATE:20240401
DTEND;VALUE=DATE:20240406
DTSTAMP:20260424T160738
CREATED:20230818T033229Z
LAST-MODIFIED:20230818T033229Z
UID:3721-1711929600-1712361599@bhspta.org
SUMMARY:Spring Break
DESCRIPTION:
URL:https://bhspta.org/events/spring-break-2/
END:VEVENT
BEGIN:VEVENT
DTSTART;VALUE=DATE:20240220
DTEND;VALUE=DATE:20240221
DTSTAMP:20260424T160738
CREATED:20230818T033154Z
LAST-MODIFIED:20230818T033154Z
UID:3719-1708387200-1708473599@bhspta.org
SUMMARY:Mid-winter Break - No school
DESCRIPTION:
URL:https://bhspta.org/events/mid-winter-break-no-school-2/
END:VEVENT
BEGIN:VEVENT
DTSTART;VALUE=DATE:20240219
DTEND;VALUE=DATE:20240220
DTSTAMP:20260424T160738
CREATED:20230818T033124Z
LAST-MODIFIED:20230818T033124Z
UID:3717-1708300800-1708387199@bhspta.org
SUMMARY:Presidents Day - No School
DESCRIPTION:
URL:https://bhspta.org/events/presidents-day-no-school-2/
END:VEVENT
BEGIN:VEVENT
DTSTART;TZID=UTC:20240131T180000
DTEND;TZID=UTC:20240131T200000
DTSTAMP:20260424T160738
CREATED:20240109T003750Z
LAST-MODIFIED:20240110T063249Z
UID:3910-1706724000-1706731200@bhspta.org
SUMMARY:4th Annual Family STEAM Night
DESCRIPTION:Join us for a night of family fun from engineering challenges\, a book fair\, and LOTS of robots on January 31\, 2024 from 6 PM to 8 PM at BHES.
URL:https://bhspta.org/events/4th-annual-family-steam-night/
LOCATION:BHES\, 7300 Zangle Rd NE\, Olympia\, 98506
ATTACH;FMTTYPE=image/png:https://bhspta.org/wp-content/uploads/2024/01/STEAM-Night-2.png
END:VEVENT
BEGIN:VEVENT
DTSTART;VALUE=DATE:20240115
DTEND;VALUE=DATE:20240116
DTSTAMP:20260424T160738
CREATED:20230818T033054Z
LAST-MODIFIED:20230818T033054Z
UID:3715-1705276800-1705363199@bhspta.org
SUMMARY:Martin Luther King Jr. Day - No school
DESCRIPTION:
URL:https://bhspta.org/events/martin-luther-king-jr-day-no-school-2/
END:VEVENT
BEGIN:VEVENT
DTSTART;VALUE=DATE:20231220
DTEND;VALUE=DATE:20240103
DTSTAMP:20260424T160738
CREATED:20230818T033009Z
LAST-MODIFIED:20230818T033009Z
UID:3713-1703030400-1704239999@bhspta.org
SUMMARY:Winter Break
DESCRIPTION:
URL:https://bhspta.org/events/winter-break-6/
END:VEVENT
BEGIN:VEVENT
DTSTART;TZID=UTC:20231215T133500
DTEND;TZID=UTC:20231215T140500
DTSTAMP:20260424T160738
CREATED:20231204T210728Z
LAST-MODIFIED:20231204T210728Z
UID:3842-1702647300-1702649100@bhspta.org
SUMMARY:Winter Concert (Grades 3-5)
DESCRIPTION:
URL:https://bhspta.org/events/winter-concert-grades-3-5/
CATEGORIES:School Event
END:VEVENT
BEGIN:VEVENT
DTSTART;TZID=UTC:20231214T080000
DTEND;TZID=UTC:20231214T133000
DTSTAMP:20260424T160738
CREATED:20220916T054607Z
LAST-MODIFIED:20231204T203119Z
UID:3098-1702540800-1702560600@bhspta.org
SUMMARY:Holiday Bear Market
DESCRIPTION:
URL:https://bhspta.org/events/holiday-bearzaar/
ATTACH;FMTTYPE=image/png:https://bhspta.org/wp-content/uploads/2022/11/Giving-Tree-Website-Slider-2200-×-1200-px-2.png
END:VEVENT
BEGIN:VEVENT
DTSTART;TZID=UTC:20231213T180000
DTEND;TZID=UTC:20231213T190000
DTSTAMP:20260424T160738
CREATED:20231204T210845Z
LAST-MODIFIED:20231204T210845Z
UID:3844-1702490400-1702494000@bhspta.org
SUMMARY:General PTA Meeting
DESCRIPTION:
URL:https://bhspta.org/events/general-pta-meeting/
CATEGORIES:PTA Meetings
END:VEVENT
BEGIN:VEVENT
DTSTART;TZID=UTC:20231213T125000
DTEND;TZID=UTC:20231213T132000
DTSTAMP:20260424T160738
CREATED:20231204T210637Z
LAST-MODIFIED:20231204T210759Z
UID:3840-1702471800-1702473600@bhspta.org
SUMMARY:Winter Concert (K-2 and Mrs. Ketcham’s class)
DESCRIPTION:
URL:https://bhspta.org/events/winter-concert-k-2-and-mrs-ketchams-class/
CATEGORIES:School Event
END:VEVENT
BEGIN:VEVENT
DTSTART;VALUE=DATE:20231122
DTEND;VALUE=DATE:20231125
DTSTAMP:20260424T160738
CREATED:20230818T032936Z
LAST-MODIFIED:20230818T032936Z
UID:3711-1700611200-1700870399@bhspta.org
SUMMARY:Thanksgiving Break
DESCRIPTION:
URL:https://bhspta.org/events/thanksgiving-break-4/
END:VEVENT
BEGIN:VEVENT
DTSTART;VALUE=DATE:20231110
DTEND;VALUE=DATE:20231111
DTSTAMP:20260424T160738
CREATED:20230818T032859Z
LAST-MODIFIED:20230818T033525Z
UID:3709-1699574400-1699660799@bhspta.org
SUMMARY:Veterans Day - No school
DESCRIPTION:
URL:https://bhspta.org/events/veterans-day-no-school-3/
END:VEVENT
BEGIN:VEVENT
DTSTART;TZID=UTC:20231028T160000
DTEND;TZID=UTC:20231028T200000
DTSTAMP:20260424T160738
CREATED:20230929T031045Z
LAST-MODIFIED:20231017T234243Z
UID:3761-1698508800-1698523200@bhspta.org
SUMMARY:Halloween Carnival
DESCRIPTION:
URL:https://bhspta.org/events/halloween-carnival-4/
LOCATION:BHS Gymnasium\, 7300 Zangle Rd NE\, Olympia\, 98506\, United States
END:VEVENT
BEGIN:VEVENT
DTSTART;TZID=UTC:20231013T080000
DTEND;TZID=UTC:20231013T141500
DTSTAMP:20260424T160738
CREATED:20230818T032815Z
LAST-MODIFIED:20230818T032815Z
UID:3707-1697184000-1697206500@bhspta.org
SUMMARY:No School
DESCRIPTION:
URL:https://bhspta.org/events/no-school-2/
END:VEVENT
BEGIN:VEVENT
DTSTART;TZID=UTC:20231011T173000
DTEND;TZID=UTC:20231011T190000
DTSTAMP:20260424T160738
CREATED:20230929T031232Z
LAST-MODIFIED:20230929T031720Z
UID:3763-1697045400-1697050800@bhspta.org
SUMMARY:First PTA Meeting of the year
DESCRIPTION:5:30-6:00 Ice Cream Sundae Bar \n6:00-7:00 PTA Meeting
URL:https://bhspta.org/events/first-pta-meeting-of-the-year/
END:VEVENT
BEGIN:VEVENT
DTSTART;TZID=UTC:20230916T110000
DTEND;TZID=UTC:20230916T150000
DTSTAMP:20260424T160738
CREATED:20230609T035050Z
LAST-MODIFIED:20230609T035050Z
UID:3661-1694862000-1694876400@bhspta.org
SUMMARY:BHES Car Show
DESCRIPTION:
URL:https://bhspta.org/events/bhes-car-show/
LOCATION:BHES\, 7300 Zangle Rd NE\, Olympia\, 98506
CATEGORIES:Community Fun,PTA Event
ATTACH;FMTTYPE=image/png:https://bhspta.org/wp-content/uploads/2023/06/BHES-Car-Show-1.png
END:VEVENT
BEGIN:VEVENT
DTSTART;TZID=UTC:20230911T080000
DTEND;TZID=UTC:20230911T141500
DTSTAMP:20260424T160738
CREATED:20230818T032727Z
LAST-MODIFIED:20230818T033424Z
UID:3705-1694419200-1694441700@bhspta.org
SUMMARY:First Day of Kindergarten
DESCRIPTION:
URL:https://bhspta.org/events/first-day-of-kindergarten-4/
END:VEVENT
BEGIN:VEVENT
DTSTART;TZID=UTC:20230911T080000
DTEND;TZID=UTC:20230911T083000
DTSTAMP:20260424T160738
CREATED:20230908T034255Z
LAST-MODIFIED:20230908T034255Z
UID:3738-1694419200-1694421000@bhspta.org
SUMMARY:Tears & Cheers - Kindergarten Parents
DESCRIPTION:
URL:https://bhspta.org/events/tears-cheers-kindergarten-parents/
LOCATION:BHES Library
ATTACH;FMTTYPE=image/jpeg:https://bhspta.org/wp-content/uploads/2023/09/Tears-Cheers-Breakfast-Facebook-Post-Landscape-Brochure-11-×-8.5-in.jpeg
END:VEVENT
BEGIN:VEVENT
DTSTART;TZID=UTC:20230906T080000
DTEND;TZID=UTC:20230906T141500
DTSTAMP:20260424T160738
CREATED:20230818T032550Z
LAST-MODIFIED:20230818T032550Z
UID:3703-1693987200-1694009700@bhspta.org
SUMMARY:First Day of School
DESCRIPTION:
URL:https://bhspta.org/events/first-day-of-school-4/
END:VEVENT
BEGIN:VEVENT
DTSTART;TZID=UTC:20230622T075000
DTEND;TZID=UTC:20230622T110500
DTSTAMP:20260424T160738
CREATED:20220819T210523Z
LAST-MODIFIED:20220819T220756Z
UID:2603-1687420200-1687431900@bhspta.org
SUMMARY:Last Day of School - 11:05 Dismissal
DESCRIPTION:
URL:https://bhspta.org/events/last-day-of-school-2/
END:VEVENT
BEGIN:VEVENT
DTSTART;VALUE=DATE:20230619
DTEND;VALUE=DATE:20230620
DTSTAMP:20260424T160738
CREATED:20220819T210438Z
LAST-MODIFIED:20220819T210438Z
UID:2601-1687132800-1687219199@bhspta.org
SUMMARY:Juneteenth - No School
DESCRIPTION:
URL:https://bhspta.org/events/juneteenth-no-school/
END:VEVENT
BEGIN:VEVENT
DTSTART;TZID=UTC:20230609T075000
DTEND;TZID=UTC:20230609T110500
DTSTAMP:20260424T160738
CREATED:20220819T210935Z
LAST-MODIFIED:20220819T220702Z
UID:2609-1686297000-1686308700@bhspta.org
SUMMARY:Half Day - 11:05 Dismissal
DESCRIPTION:
URL:https://bhspta.org/events/half-day-of-school/
END:VEVENT
BEGIN:VEVENT
DTSTART;TZID=UTC:20230607T180000
DTEND;TZID=UTC:20230607T190000
DTSTAMP:20260424T160738
CREATED:20220819T204256Z
LAST-MODIFIED:20230511T000451Z
UID:2573-1686160800-1686164400@bhspta.org
SUMMARY:Last PTA Meeting
DESCRIPTION:
URL:https://bhspta.org/events/last-pta-meeting/
LOCATION:BHES\, 7300 Zangle Rd NE\, Olympia\, 98506
CATEGORIES:PTA Meetings
ATTACH;FMTTYPE=image/jpeg:https://bhspta.org/wp-content/uploads/2022/08/COOKIES-TONIGHT-Facebook-Post.jpg
END:VEVENT
BEGIN:VEVENT
DTSTART;VALUE=DATE:20230529
DTEND;VALUE=DATE:20230530
DTSTAMP:20260424T160738
CREATED:20220819T210355Z
LAST-MODIFIED:20220819T210355Z
UID:2599-1685318400-1685404799@bhspta.org
SUMMARY:Memorial Day - No School
DESCRIPTION:
URL:https://bhspta.org/events/memorial-day-no-school/
END:VEVENT
BEGIN:VEVENT
DTSTART;VALUE=DATE:20230526
DTEND;VALUE=DATE:20230527
DTSTAMP:20260424T160738
CREATED:20220819T211017Z
LAST-MODIFIED:20220819T211017Z
UID:2611-1685059200-1685145599@bhspta.org
SUMMARY:Snow Make-Up Day (if needed)
DESCRIPTION:
URL:https://bhspta.org/events/snow-make-up-day-if-needed/
END:VEVENT
BEGIN:VEVENT
DTSTART;TZID=UTC:20230510T180000
DTEND;TZID=UTC:20230510T190000
DTSTAMP:20260424T160738
CREATED:20220819T204213Z
LAST-MODIFIED:20230421T041629Z
UID:2571-1683741600-1683745200@bhspta.org
SUMMARY:PTA Meeting
DESCRIPTION:
URL:https://bhspta.org/events/pta-meeting-17/
LOCATION:BHES\, 7300 Zangle Rd NE\, Olympia\, 98506
ATTACH;FMTTYPE=image/jpeg:https://bhspta.org/wp-content/uploads/2022/08/COOKIES-TONIGHT-Facebook-Post.jpg
END:VEVENT
BEGIN:VEVENT
DTSTART;TZID=UTC:20230423T133000
DTEND;TZID=UTC:20230423T170000
DTSTAMP:20260424T160738
CREATED:20230421T041203Z
LAST-MODIFIED:20230421T041447Z
UID:3590-1682256600-1682269200@bhspta.org
SUMMARY:BHES at Rainier's Game
DESCRIPTION:
URL:https://bhspta.org/events/bhes-at-rainiers-game/
ATTACH;FMTTYPE=image/png:https://bhspta.org/wp-content/uploads/2023/02/Rainiers-header.png
END:VEVENT
BEGIN:VEVENT
DTSTART;VALUE=DATE:20230403
DTEND;VALUE=DATE:20230408
DTSTAMP:20260424T160738
CREATED:20220819T210322Z
LAST-MODIFIED:20220819T210322Z
UID:2597-1680480000-1680911999@bhspta.org
SUMMARY:Spring Break
DESCRIPTION:
URL:https://bhspta.org/events/spring-break/
END:VEVENT
END:VCALENDAR