BEGIN:VCALENDAR
VERSION:2.0
PRODID:-//Boston Harbor PTA - ECPv6.15.20//NONSGML v1.0//EN
CALSCALE:GREGORIAN
METHOD:PUBLISH
X-WR-CALNAME:Boston Harbor PTA
X-ORIGINAL-URL:https://bhspta.org
X-WR-CALDESC:Events for Boston Harbor PTA
REFRESH-INTERVAL;VALUE=DURATION:PT1H
X-Robots-Tag:noindex
X-PUBLISHED-TTL:PT1H
BEGIN:VTIMEZONE
TZID:UTC
BEGIN:STANDARD
TZOFFSETFROM:+0000
TZOFFSETTO:+0000
TZNAME:UTC
DTSTART:20140101T000000
END:STANDARD
END:VTIMEZONE
BEGIN:VEVENT
DTSTART;TZID=UTC:20160220T090000
DTEND;TZID=UTC:20160220T120000
DTSTAMP:20260425T163506
CREATED:20160119T191542Z
LAST-MODIFIED:20160119T191542Z
UID:450-1455958800-1455969600@bhspta.org
SUMMARY:Spring Clean in the Garden 2/20
DESCRIPTION:Mark your calendar! Join us Saturday\, February 20th from 9 a.m. – 12 p.m. for a big Spring Clean in the School Garden! We have skilled and thoughtful parents excited about resurrecting our school garden\, to make it a fun learning environment for our kids. We’ll have more info coming soon.
URL:https://bhspta.org/events/spring-clean-in-the-garden-220/
CATEGORIES:PTA Event,School Event
END:VEVENT
BEGIN:VEVENT
DTSTART;VALUE=DATE:20160219
DTEND;VALUE=DATE:20160220
DTSTAMP:20260425T163506
CREATED:20160204T151713Z
LAST-MODIFIED:20160204T151713Z
UID:465-1455840000-1455926399@bhspta.org
SUMMARY:Bear Paw Store
DESCRIPTION:Help needed!  Call the office!
URL:https://bhspta.org/events/bear-paw-store-2/
CATEGORIES:School Event
END:VEVENT
BEGIN:VEVENT
DTSTART;VALUE=DATE:20160218
DTEND;VALUE=DATE:20160219
DTSTAMP:20260425T163506
CREATED:20160204T151627Z
LAST-MODIFIED:20160204T151627Z
UID:463-1455753600-1455839999@bhspta.org
SUMMARY:Bear Paw Assembly
DESCRIPTION:
URL:https://bhspta.org/events/bear-paw-assembly-2/
CATEGORIES:School Event
END:VEVENT
BEGIN:VEVENT
DTSTART;VALUE=DATE:20160215
DTEND;VALUE=DATE:20160217
DTSTAMP:20260425T163506
CREATED:20160204T151329Z
LAST-MODIFIED:20160204T151329Z
UID:460-1455494400-1455667199@bhspta.org
SUMMARY:Mid-Winter Break
DESCRIPTION:No School!
URL:https://bhspta.org/events/mid-winter-break/
CATEGORIES:District Calendar
END:VEVENT
BEGIN:VEVENT
DTSTART;TZID=UTC:20160210T180000
DTEND;TZID=UTC:20160210T193000
DTSTAMP:20260425T163506
CREATED:20160204T151253Z
LAST-MODIFIED:20160204T151253Z
UID:459-1455127200-1455132600@bhspta.org
SUMMARY:Eastside Choral Festival
DESCRIPTION:Eastside Choral Festival @ 6:00 p.m. at OHS.
URL:https://bhspta.org/events/eastside-choral-festival/
CATEGORIES:District Calendar,School Event
END:VEVENT
BEGIN:VEVENT
DTSTART;TZID=UTC:20160113T180000
DTEND;TZID=UTC:20160113T193000
DTSTAMP:20260425T163506
CREATED:20151004T155403Z
LAST-MODIFIED:20151004T155858Z
UID:285-1452708000-1452713400@bhspta.org
SUMMARY:PTA Meeting
DESCRIPTION:Join us for our monthly PTA meeting!
URL:https://bhspta.org/events/pta-meeting-3/
CATEGORIES:PTA Event,PTA Meetings
END:VEVENT
BEGIN:VEVENT
DTSTART;TZID=UTC:20151221T080000
DTEND;TZID=UTC:20160101T170000
DTSTAMP:20260425T163506
CREATED:20151027T134150Z
LAST-MODIFIED:20151027T134150Z
UID:366-1450684800-1451667600@bhspta.org
SUMMARY:Winter Break
DESCRIPTION:No School!
URL:https://bhspta.org/events/winter-break/
CATEGORIES:District Calendar
END:VEVENT
BEGIN:VEVENT
DTSTART;TZID=UTC:20151217T080000
DTEND;TZID=UTC:20151217T170000
DTSTAMP:20260425T163506
CREATED:20151027T123525Z
LAST-MODIFIED:20151027T123525Z
UID:362-1450339200-1450371600@bhspta.org
SUMMARY:Boston Harbor Bearzaar
DESCRIPTION:It’s the Boston Harbor Bearzaar!  Kids can purchase small gifts for their family members throughout the day at the Boston Harbor Bearzaar.  We always need wrapping help\, so let Angela Harmeier know if you can join the fun!  (president @ bhspta.org)
URL:https://bhspta.org/events/boston-harbor-bearzaar/
CATEGORIES:PTA Event
END:VEVENT
BEGIN:VEVENT
DTSTART;TZID=UTC:20151211T080000
DTEND;TZID=UTC:20151211T170000
DTSTAMP:20260425T163506
CREATED:20151027T123705Z
LAST-MODIFIED:20151027T123730Z
UID:363-1449820800-1449853200@bhspta.org
SUMMARY:Movie Night at the Fire Station
DESCRIPTION:Movie Night at the Boston Harbor fire station.  Visit southbayfire.com for details!
URL:https://bhspta.org/events/movie-night-at-the-fire-station/
CATEGORIES:Community Fun
END:VEVENT
BEGIN:VEVENT
DTSTART;TZID=UTC:20151202T080000
DTEND;TZID=UTC:20151202T170000
DTSTAMP:20260425T163506
CREATED:20151027T134104Z
LAST-MODIFIED:20151027T134104Z
UID:365-1449043200-1449075600@bhspta.org
SUMMARY:Early Release
DESCRIPTION:Early Release Half Day for grades K-5th (no Preschool).  Dismissal @ 12:25.  Lunch will be served.
URL:https://bhspta.org/events/early-release-2/
CATEGORIES:District Calendar,Early Release
END:VEVENT
BEGIN:VEVENT
DTSTART;TZID=UTC:20151126T080000
DTEND;TZID=UTC:20151127T170000
DTSTAMP:20260425T163506
CREATED:20151027T134223Z
LAST-MODIFIED:20151027T134223Z
UID:367-1448524800-1448643600@bhspta.org
SUMMARY:Thanksgiving Break
DESCRIPTION:No School!
URL:https://bhspta.org/events/thanksgiving-break/
CATEGORIES:District Calendar
END:VEVENT
BEGIN:VEVENT
DTSTART;TZID=UTC:20151120T080000
DTEND;TZID=UTC:20151120T170000
DTSTAMP:20260425T163506
CREATED:20151027T134325Z
LAST-MODIFIED:20151027T134747Z
UID:368-1448006400-1448038800@bhspta.org
SUMMARY:Bear Paw Store
DESCRIPTION:Help needed in the afternoon for the Bear Paw store.  Contact Ms. Bogart in the office if you can help.
URL:https://bhspta.org/events/bear-paw-store/
CATEGORIES:School Event
END:VEVENT
BEGIN:VEVENT
DTSTART;TZID=UTC:20151119T080000
DTEND;TZID=UTC:20151119T170000
DTSTAMP:20260425T163506
CREATED:20151027T134615Z
LAST-MODIFIED:20151027T134615Z
UID:371-1447920000-1447952400@bhspta.org
SUMMARY:Bear Paw Assembly
DESCRIPTION:Morning assembly.  Check with the office for times.
URL:https://bhspta.org/events/bear-paw-assembly/
CATEGORIES:School Event
END:VEVENT
BEGIN:VEVENT
DTSTART;TZID=UTC:20151118T173000
DTEND;TZID=UTC:20151118T183000
DTSTAMP:20260425T163506
CREATED:20151027T140819Z
LAST-MODIFIED:20151027T140819Z
UID:376-1447867800-1447871400@bhspta.org
SUMMARY:Math Night at Boston Harbor
DESCRIPTION:Mark your calendars for Math Night!  Learn more about the Bridges math curriculum\, and try out some games in the classrooms with your student.
URL:https://bhspta.org/events/math-night-at-boston-harbor/
CATEGORIES:School Event
END:VEVENT
BEGIN:VEVENT
DTSTART;TZID=UTC:20151118T092000
DTEND;TZID=UTC:20151118T103000
DTSTAMP:20260425T163506
CREATED:20151004T155319Z
LAST-MODIFIED:20151004T155846Z
UID:284-1447838400-1447842600@bhspta.org
SUMMARY:PTA Meeting
DESCRIPTION:Join us for our monthly PTA meeting!
URL:https://bhspta.org/events/pta-meeting-2/
CATEGORIES:PTA Event,PTA Meetings
END:VEVENT
BEGIN:VEVENT
DTSTART;TZID=UTC:20151116T080000
DTEND;TZID=UTC:20151116T170000
DTSTAMP:20260425T163506
CREATED:20151027T134528Z
LAST-MODIFIED:20151027T134528Z
UID:370-1447660800-1447693200@bhspta.org
SUMMARY:Picture Re-Takes in Library
DESCRIPTION:Morning picture re-takes: Contact the office with any questions.
URL:https://bhspta.org/events/picture-re-takes-in-library/
CATEGORIES:School Event
END:VEVENT
BEGIN:VEVENT
DTSTART;TZID=UTC:20151111T080000
DTEND;TZID=UTC:20151111T170000
DTSTAMP:20260425T163506
CREATED:20151027T134418Z
LAST-MODIFIED:20151027T134418Z
UID:369-1447228800-1447261200@bhspta.org
SUMMARY:Veteran's Day: No School
DESCRIPTION:Thank you\, Veterans!
URL:https://bhspta.org/events/veterans-day-no-school/
CATEGORIES:District Calendar
END:VEVENT
BEGIN:VEVENT
DTSTART;TZID=UTC:20151109T111000
DTEND;TZID=UTC:20151109T114500
DTSTAMP:20260425T163506
CREATED:20151027T140251Z
LAST-MODIFIED:20151103T143441Z
UID:374-1447067400-1447069500@bhspta.org
SUMMARY:Veteran's Day Assembly
DESCRIPTION:Veteran’s Day Assembly from  11:10 a.m. – 11:45 a.m. in the gym.  Contact the office for details.
URL:https://bhspta.org/events/veterans-day-assembly/
CATEGORIES:School Event
END:VEVENT
BEGIN:VEVENT
DTSTART;TZID=UTC:20151104T080000
DTEND;TZID=UTC:20151104T170000
DTSTAMP:20260425T163506
CREATED:20151027T140430Z
LAST-MODIFIED:20151027T140430Z
UID:375-1446624000-1446656400@bhspta.org
SUMMARY:Deadline for Wreath Orders
DESCRIPTION:Last day for wreath orders to support 5th grade outdoor education.  See this post for details.
URL:https://bhspta.org/events/deadline-for-wreath-orders/
CATEGORIES:School Event
END:VEVENT
BEGIN:VEVENT
DTSTART;TZID=UTC:20151104T080000
DTEND;TZID=UTC:20151104T170000
DTSTAMP:20260425T163506
CREATED:20151027T133922Z
LAST-MODIFIED:20151027T134033Z
UID:364-1446624000-1446656400@bhspta.org
SUMMARY:Early Release
DESCRIPTION:Early Release Half Day for grades K-5th (no Preschool).  Dismissal @ 12:25.  Lunch will be served.
URL:https://bhspta.org/events/early-release/
CATEGORIES:District Calendar,Early Release
END:VEVENT
BEGIN:VEVENT
DTSTART;TZID=UTC:20151027T123500
DTEND;TZID=UTC:20151030T123500
DTSTAMP:20260425T163506
CREATED:20151004T160126Z
LAST-MODIFIED:20151004T160126Z
UID:291-1445949300-1446208500@bhspta.org
SUMMARY:Fall Conferences\, Early Release
DESCRIPTION:Elementary/Middle Early Release
URL:https://bhspta.org/events/fall-conferences-early-release/
CATEGORIES:District Calendar,Early Release
END:VEVENT
BEGIN:VEVENT
DTSTART;VALUE=DATE:20151027
DTEND;VALUE=DATE:20151031
DTSTAMP:20260425T163506
CREATED:20151027T123019Z
LAST-MODIFIED:20151027T123204Z
UID:360-1445904000-1446249599@bhspta.org
SUMMARY:Boston Harbor Book Fair
DESCRIPTION:Our version of the standard school book fair brings teacher favorites and best-sellers from local Orca Books in downtown Olympia!  Shop T-F during conference week\, in the morning before school or from 12:15-4:00 p.m.  Cash or card accepted\, and profits support our school.  You can even buy a book from your teacher’s classroom wish list!
URL:https://bhspta.org/events/boston-harbor-book-fair/
CATEGORIES:Community Fun,PTA Event
END:VEVENT
BEGIN:VEVENT
DTSTART;VALUE=DATE:20151024
DTEND;VALUE=DATE:20151025
DTSTAMP:20260425T163506
CREATED:20150929T221059Z
LAST-MODIFIED:20151006T134442Z
UID:183-1445644800-1445731199@bhspta.org
SUMMARY:Halloween Carnival
DESCRIPTION:Come to the Halloween Carnival and wear your costumes!  The fun starts at 5:30 p.m. in the Gym.  More details coming soon… Save the date.
URL:https://bhspta.org/events/halloween-carnival/
CATEGORIES:Community Fun,PTA Event
END:VEVENT
BEGIN:VEVENT
DTSTART;VALUE=DATE:20151016
DTEND;VALUE=DATE:20151017
DTSTAMP:20260425T163506
CREATED:20150930T035927Z
LAST-MODIFIED:20150930T035927Z
UID:269-1444953600-1445039999@bhspta.org
SUMMARY:No School: Teacher In-Service
DESCRIPTION:No School!
URL:https://bhspta.org/events/no-school-teacher-in-service/
CATEGORIES:District Calendar
END:VEVENT
BEGIN:VEVENT
DTSTART;TZID=UTC:20151014T180000
DTEND;TZID=UTC:20151014T193000
DTSTAMP:20260425T163506
CREATED:20151004T155225Z
LAST-MODIFIED:20151004T155225Z
UID:283-1444845600-1444851000@bhspta.org
SUMMARY:PTA Meeting
DESCRIPTION:Join us for our monthly PTA meeting!
URL:https://bhspta.org/events/pta-meeting/
CATEGORIES:PTA Event,PTA Meetings
END:VEVENT
BEGIN:VEVENT
DTSTART;TZID=UTC:20151007T122500
DTEND;TZID=UTC:20151007T122500
DTSTAMP:20260425T163506
CREATED:20150929T220913Z
LAST-MODIFIED:20150930T022625Z
UID:182-1444220700-1444220700@bhspta.org
SUMMARY:Early Release Half Day
DESCRIPTION:Early Release Half Day on Wednesday\, October 7th for grades K-5th (no Preschool).  Dismissal @ 12:25.  Lunch will be served.
URL:https://bhspta.org/events/early-release-half-day/
CATEGORIES:District Calendar,Early Release
END:VEVENT
END:VCALENDAR