BEGIN:VCALENDAR
VERSION:2.0
PRODID:-//Boston Harbor PTA - ECPv6.15.20//NONSGML v1.0//EN
CALSCALE:GREGORIAN
METHOD:PUBLISH
X-WR-CALNAME:Boston Harbor PTA
X-ORIGINAL-URL:https://bhspta.org
X-WR-CALDESC:Events for Boston Harbor PTA
REFRESH-INTERVAL;VALUE=DURATION:PT1H
X-Robots-Tag:noindex
X-PUBLISHED-TTL:PT1H
BEGIN:VTIMEZONE
TZID:UTC
BEGIN:STANDARD
TZOFFSETFROM:+0000
TZOFFSETTO:+0000
TZNAME:UTC
DTSTART:20140101T000000
END:STANDARD
END:VTIMEZONE
BEGIN:VEVENT
DTSTART;TZID=UTC:20190110T180000
DTEND;TZID=UTC:20190110T193000
DTSTAMP:20260425T133218
CREATED:20181202T162609Z
LAST-MODIFIED:20190103T043500Z
UID:854-1547143200-1547148600@bhspta.org
SUMMARY:2nd Annual STEAM Family Night
DESCRIPTION:We’re celebrating STEAM (science\, technology\, engineering\, art and math) January 9th-10th at Boston HarborElementary School!  Do you have a special STEAM-related skill\, passion or vocation to share with BHES kids in the afternoon on January 9th? \nCan you plan an engaging 20-25 minute presentation with lots of visuals (and maybe even some hands-on items) about how you use STEAM in your life/work? Our assembly\, workshops and evening event the following day have a math focus so we’re particularly interested in the ways you use MATH in your everyday work. You would share your presentation three times with three groups of K-2 kids or three groups of 3-5 kids. Teachers stay with the students to help out. We also have a Signup Genius link with additional ways to help: https://bit.ly/2PQhZf7 \nPlease let us know if you’re interested by Friday\, December 7th!  We want to expose kids to some fun STEAM jobs and skills (with an emphasis on MATH!). Questions? Ready to join the fun? This was one of the favorite highlights of our activities last year so we’re eager to do it again! Email Beth Wilson (ewilson@osd.wednet.edu). \nLooking for other ways to help?  We have a wish list for our upcoming STEAM Family Night activities\, on January 10th. Visit our Amazon list here: http://a.co/9Qor8Cf (Be sure to designate the BHES PTA as your Amazon Smile recipient with your Amazon orders for a win-win for our school).
URL:https://bhspta.org/events/2nd-annual-steam-family-night/
END:VEVENT
BEGIN:VEVENT
DTSTART;TZID=UTC:20190110T093000
DTEND;TZID=UTC:20190110T150000
DTSTAMP:20260425T133218
CREATED:20190105T193035Z
LAST-MODIFIED:20190105T193035Z
UID:901-1547112600-1547132400@bhspta.org
SUMMARY:Pacific Science Center Assembly
DESCRIPTION:You’re also welcome to join us Thursday morning at 9:30 a.m. for our Pacific Science Center assembly.  We have workshops and exhibits all day long thanks to the generous support of our PTA.  We still need one adult in the morning and one in the afternoon on the 10th to hang out in the gym and monitor the exhibits as classes visit.  It’s fun and easy!  If you have volunteer clearance through the district and can help\, please email ewilson@osd.wednet.edu. 
URL:https://bhspta.org/events/pacific-science-center-assembly/
END:VEVENT
BEGIN:VEVENT
DTSTART;TZID=UTC:20190109T180000
DTEND;TZID=UTC:20190109T190000
DTSTAMP:20260425T133218
CREATED:20190105T192723Z
LAST-MODIFIED:20190105T192723Z
UID:897-1547056800-1547060400@bhspta.org
SUMMARY:January PTA Meeting
DESCRIPTION:Please join us for this month’s PTA meeting on Wednesday\, January 9th @ 6:00 p.m.
URL:https://bhspta.org/events/january-pta-meeting/
END:VEVENT
BEGIN:VEVENT
DTSTART;TZID=UTC:20190108T130000
DTEND;TZID=UTC:20190108T150000
DTSTAMP:20260425T133218
CREATED:20190105T192839Z
LAST-MODIFIED:20190105T192839Z
UID:899-1546952400-1546959600@bhspta.org
SUMMARY:Vision & Hearing screenings
DESCRIPTION:The Lions Club will be here next Tuesday from 1:00-3:00 for Vision & Hearing screenings. We are looking for 2-3 volunteers to help with screenings or be a runner. Please let the office know if you can help. Thank you!
URL:https://bhspta.org/events/vision-hearing-screenings/
END:VEVENT
BEGIN:VEVENT
DTSTART;TZID=UTC:20190105T093000
DTEND;TZID=UTC:20190105T103000
DTSTAMP:20260425T133218
CREATED:20190105T193303Z
LAST-MODIFIED:20190105T193303Z
UID:906-1546680600-1546684200@bhspta.org
SUMMARY:Bear Paw Assembly
DESCRIPTION:
URL:https://bhspta.org/events/bear-paw-assembly-4/
END:VEVENT
BEGIN:VEVENT
DTSTART;VALUE=DATE:20181219
DTEND;VALUE=DATE:20190103
DTSTAMP:20260425T133218
CREATED:20181128T152250Z
LAST-MODIFIED:20181128T152250Z
UID:850-1545177600-1546473599@bhspta.org
SUMMARY:Winter Break
DESCRIPTION:No school. Enjoy the holidays!
URL:https://bhspta.org/events/winter-break-2/
END:VEVENT
BEGIN:VEVENT
DTSTART;TZID=UTC:20181218T140000
DTEND;TZID=UTC:20181218T150000
DTSTAMP:20260425T133218
CREATED:20181128T152042Z
LAST-MODIFIED:20181128T152042Z
UID:848-1545141600-1545145200@bhspta.org
SUMMARY:Winter Concert
DESCRIPTION:You are all invited to the BHS Winter Concert on Tuesday\, December 18th at 2:00. It will be performed by our Kindergarten – 5th grade students\, as well as band and orchestra students.
URL:https://bhspta.org/events/winter-concert/
END:VEVENT
BEGIN:VEVENT
DTSTART;VALUE=DATE:20181217
DTEND;VALUE=DATE:20181218
DTSTAMP:20260425T133218
CREATED:20181202T162701Z
LAST-MODIFIED:20181202T162701Z
UID:856-1545004800-1545091199@bhspta.org
SUMMARY:Kid’s Holiday Gift Bazaar
DESCRIPTION:Boston Harbor PTA Kid’s Holiday Gift Bazaar\nIt is time for the annual Boston Harbor’s Gift Bazaar! What is it? Gently used gifts\, donated by YOU\, displayed for each class to have a turn to shop for holiday gifts for their immediate family. Students purchase items for 25¢ each on December 17th. Please drop off donations of gently used items\, gift bags\, tape\, tissue paper\, and gift tags to the school lobby between now and the morning of Dec 17th (see attachment).\n\nVolunteers will also be needed on Friday\, December 14th (4:30 pm start) for set-up and on Monday\, December 17th for wrapping gifts\, assisting students and clean up. If you are interested in volunteering and have gone through the district’s volunteer approval process\, please contact Angela Harmeier at angharmeier@gmail.com or 425-503-5587.
URL:https://bhspta.org/events/kids-holiday-gift-bazaar/
END:VEVENT
BEGIN:VEVENT
DTSTART;VALUE=DATE:20181217
DTEND;VALUE=DATE:20181218
DTSTAMP:20260425T133218
CREATED:20181128T151944Z
LAST-MODIFIED:20181128T151944Z
UID:846-1545004800-1545091199@bhspta.org
SUMMARY:Kids Holiday Bazaar
DESCRIPTION:
URL:https://bhspta.org/events/kids-holiday-bazaar/
END:VEVENT
BEGIN:VEVENT
DTSTART;TZID=UTC:20181130T092000
DTEND;TZID=UTC:20181130T102000
DTSTAMP:20260425T133218
CREATED:20181128T151730Z
LAST-MODIFIED:20181128T151842Z
UID:844-1543569600-1543573200@bhspta.org
SUMMARY:Bear Paw Assembly
DESCRIPTION:
URL:https://bhspta.org/events/bear-paw-assembly-3/
LOCATION:BHS Gymnasium\, 7300 Zangle Rd NE\, Olympia\, 98506\, United States
END:VEVENT
BEGIN:VEVENT
DTSTART;VALUE=DATE:20181121
DTEND;VALUE=DATE:20181124
DTSTAMP:20260425T133218
CREATED:20181116T142640Z
LAST-MODIFIED:20181116T142640Z
UID:833-1542758400-1543017599@bhspta.org
SUMMARY:Thanksgiving Break
DESCRIPTION:
URL:https://bhspta.org/events/thanksgiving-break-2/
END:VEVENT
BEGIN:VEVENT
DTSTART;TZID=UTC:20181116T143000
DTEND;TZID=UTC:20181116T190000
DTSTAMP:20260425T133218
CREATED:20181106T152545Z
LAST-MODIFIED:20181116T143425Z
UID:818-1542378600-1542394800@bhspta.org
SUMMARY:BHS PTA Play
DESCRIPTION:Heidi Fredericks of Apple Tree Productions will be directing “Scenes from Disney” with our amazing kids this year. Everyone is invited to the play performances Friday\, November 16! There will be a daytime show at 2:30pm and an evening show at 7pm. Please plan on joining us! And please email Emily Waugh at emilytwaugh@gmail.com with any questions.
URL:https://bhspta.org/events/bhs-pta-play/
LOCATION:BHS Gymnasium\, 7300 Zangle Rd NE\, Olympia\, 98506\, United States
END:VEVENT
BEGIN:VEVENT
DTSTART;TZID=UTC:20181116T080000
DTEND;TZID=UTC:20181130T170000
DTSTAMP:20260425T133218
CREATED:20181106T152409Z
LAST-MODIFIED:20181106T152409Z
UID:816-1542355200-1543597200@bhspta.org
SUMMARY:Read-a-thon
DESCRIPTION:The Read-a-thon is coming! It will begin November 16th and go through November 30th! This is a PTA fundraiser that is a win/win for everyone! Participants help raise money for PTA sponsored activities AND they get to read their favorite books! Details coming soon.
URL:https://bhspta.org/events/read-a-thon/
END:VEVENT
BEGIN:VEVENT
DTSTART;TZID=UTC:20181114T180000
DTEND;TZID=UTC:20181114T190000
DTSTAMP:20260425T133218
CREATED:20181106T151230Z
LAST-MODIFIED:20181106T151230Z
UID:804-1542218400-1542222000@bhspta.org
SUMMARY:PTA Meeting
DESCRIPTION:
URL:https://bhspta.org/events/pta-meeting-4/
LOCATION:School Library
END:VEVENT
BEGIN:VEVENT
DTSTART;TZID=UTC:20181027T170000
DTEND;TZID=UTC:20181027T200000
DTSTAMP:20260425T133218
CREATED:20181001T134548Z
LAST-MODIFIED:20181017T135637Z
UID:759-1540659600-1540670400@bhspta.org
SUMMARY:BHS Halloween Carnival
DESCRIPTION:More details coming soon! Interested in helping plan this year’s carnival? Learn about our weekly meetings here.
URL:https://bhspta.org/events/bhs-halloween-carnival/
LOCATION:BHS Gymnasium\, 7300 Zangle Rd NE\, Olympia\, 98506\, United States
END:VEVENT
BEGIN:VEVENT
DTSTART;TZID=UTC:20181010T180000
DTEND;TZID=UTC:20181010T190000
DTSTAMP:20260425T133218
CREATED:20180913T143154Z
LAST-MODIFIED:20180913T222519Z
UID:644-1539194400-1539198000@bhspta.org
SUMMARY:PTA Monthly Meetings
DESCRIPTION:Sept 12 6-7:30\nOct 10   6-7\nNov 14 6-7\nJan 9 6-7\nFeb 13 6-7\nMar 13 6-7\nApr 10 6-7\nMay 8 6-7\nJune 12 6-7
URL:https://bhspta.org/events/presidents-first-event-test/
LOCATION:School Library
CATEGORIES:PTA Meetings
END:VEVENT
BEGIN:VEVENT
DTSTART;TZID=UTC:20181002T183000
DTEND;TZID=UTC:20181002T203000
DTSTAMP:20260425T133218
CREATED:20181001T133950Z
LAST-MODIFIED:20181001T133950Z
UID:753-1538505000-1538512200@bhspta.org
SUMMARY:Halloween Carnival Planning Committee Meeting
DESCRIPTION:Come join us to help plan this year’s Halloween Carnival! The committee will be meeting every Tuesday until the week of the carnival (10/27) from 6:30 – 8ish – we have a lot more work to do!! Mike and Betty Erdahl have been so gracious and offered their home this week for our meeting (3707 Libby Rd NE\, Olympia WA). Please join us – there are still lots of big and small jobs to be done and we welcome and would appreciate your input!
URL:https://bhspta.org/events/halloween-carnival-planning-committee-meeting/
END:VEVENT
BEGIN:VEVENT
DTSTART;VALUE=DATE:20181001
DTEND;VALUE=DATE:20181002
DTSTAMP:20260425T133218
CREATED:20181001T134200Z
LAST-MODIFIED:20181001T134312Z
UID:755-1538352000-1538438399@bhspta.org
SUMMARY:Track Stars Begins!
DESCRIPTION:Track Stars begins today! Learn more about this program at your students recess here.
URL:https://bhspta.org/events/track-stars-begins/
LOCATION:BHS Recess
END:VEVENT
BEGIN:VEVENT
DTSTART;TZID=UTC:20180915T100000
DTEND;TZID=UTC:20180916T180000
DTSTAMP:20260425T133218
CREATED:20180913T145854Z
LAST-MODIFIED:20180913T150327Z
UID:654-1537005600-1537120800@bhspta.org
SUMMARY:Fund Raising Value Village Donations
DESCRIPTION:September 15-16\, 2018 \nBoston Harbor Marina  \nSaturday September 15th- 10-6pm\nSunday September 16th- 10-2pm \nA box truck will be parked at the Marina for receiving donations. Thank you! 🙂
URL:https://bhspta.org/events/fund-raising-value-village-donations/
LOCATION:Boston Harbor Marina\, 312 73rd Ave NE\, Olympia\, WA\, 98506
END:VEVENT
BEGIN:VEVENT
DTSTART;TZID=UTC:20160220T100000
DTEND;TZID=UTC:20160220T120000
DTSTAMP:20260425T133218
CREATED:20160204T151517Z
LAST-MODIFIED:20160204T151517Z
UID:461-1455962400-1455969600@bhspta.org
SUMMARY:OSD All About Kindergarten Event
DESCRIPTION:Capital HS @ 10 a.m.  Please help spread the word about this event for families of children entering kindergarten in fall of 2016.
URL:https://bhspta.org/events/osd-all-about-kindergarten-event/
CATEGORIES:District Calendar,School Event
END:VEVENT
BEGIN:VEVENT
DTSTART;TZID=UTC:20160220T090000
DTEND;TZID=UTC:20160220T120000
DTSTAMP:20260425T133218
CREATED:20160119T191542Z
LAST-MODIFIED:20160119T191542Z
UID:450-1455958800-1455969600@bhspta.org
SUMMARY:Spring Clean in the Garden 2/20
DESCRIPTION:Mark your calendar! Join us Saturday\, February 20th from 9 a.m. – 12 p.m. for a big Spring Clean in the School Garden! We have skilled and thoughtful parents excited about resurrecting our school garden\, to make it a fun learning environment for our kids. We’ll have more info coming soon.
URL:https://bhspta.org/events/spring-clean-in-the-garden-220/
CATEGORIES:PTA Event,School Event
END:VEVENT
BEGIN:VEVENT
DTSTART;VALUE=DATE:20160219
DTEND;VALUE=DATE:20160220
DTSTAMP:20260425T133218
CREATED:20160204T151713Z
LAST-MODIFIED:20160204T151713Z
UID:465-1455840000-1455926399@bhspta.org
SUMMARY:Bear Paw Store
DESCRIPTION:Help needed!  Call the office!
URL:https://bhspta.org/events/bear-paw-store-2/
CATEGORIES:School Event
END:VEVENT
BEGIN:VEVENT
DTSTART;VALUE=DATE:20160218
DTEND;VALUE=DATE:20160219
DTSTAMP:20260425T133218
CREATED:20160204T151627Z
LAST-MODIFIED:20160204T151627Z
UID:463-1455753600-1455839999@bhspta.org
SUMMARY:Bear Paw Assembly
DESCRIPTION:
URL:https://bhspta.org/events/bear-paw-assembly-2/
CATEGORIES:School Event
END:VEVENT
BEGIN:VEVENT
DTSTART;VALUE=DATE:20160215
DTEND;VALUE=DATE:20160217
DTSTAMP:20260425T133218
CREATED:20160204T151329Z
LAST-MODIFIED:20160204T151329Z
UID:460-1455494400-1455667199@bhspta.org
SUMMARY:Mid-Winter Break
DESCRIPTION:No School!
URL:https://bhspta.org/events/mid-winter-break/
CATEGORIES:District Calendar
END:VEVENT
BEGIN:VEVENT
DTSTART;TZID=UTC:20160210T180000
DTEND;TZID=UTC:20160210T193000
DTSTAMP:20260425T133218
CREATED:20160204T151253Z
LAST-MODIFIED:20160204T151253Z
UID:459-1455127200-1455132600@bhspta.org
SUMMARY:Eastside Choral Festival
DESCRIPTION:Eastside Choral Festival @ 6:00 p.m. at OHS.
URL:https://bhspta.org/events/eastside-choral-festival/
CATEGORIES:District Calendar,School Event
END:VEVENT
BEGIN:VEVENT
DTSTART;TZID=UTC:20160113T180000
DTEND;TZID=UTC:20160113T193000
DTSTAMP:20260425T133218
CREATED:20151004T155403Z
LAST-MODIFIED:20151004T155858Z
UID:285-1452708000-1452713400@bhspta.org
SUMMARY:PTA Meeting
DESCRIPTION:Join us for our monthly PTA meeting!
URL:https://bhspta.org/events/pta-meeting-3/
CATEGORIES:PTA Event,PTA Meetings
END:VEVENT
BEGIN:VEVENT
DTSTART;TZID=UTC:20151221T080000
DTEND;TZID=UTC:20160101T170000
DTSTAMP:20260425T133218
CREATED:20151027T134150Z
LAST-MODIFIED:20151027T134150Z
UID:366-1450684800-1451667600@bhspta.org
SUMMARY:Winter Break
DESCRIPTION:No School!
URL:https://bhspta.org/events/winter-break/
CATEGORIES:District Calendar
END:VEVENT
BEGIN:VEVENT
DTSTART;TZID=UTC:20151217T080000
DTEND;TZID=UTC:20151217T170000
DTSTAMP:20260425T133218
CREATED:20151027T123525Z
LAST-MODIFIED:20151027T123525Z
UID:362-1450339200-1450371600@bhspta.org
SUMMARY:Boston Harbor Bearzaar
DESCRIPTION:It’s the Boston Harbor Bearzaar!  Kids can purchase small gifts for their family members throughout the day at the Boston Harbor Bearzaar.  We always need wrapping help\, so let Angela Harmeier know if you can join the fun!  (president @ bhspta.org)
URL:https://bhspta.org/events/boston-harbor-bearzaar/
CATEGORIES:PTA Event
END:VEVENT
BEGIN:VEVENT
DTSTART;TZID=UTC:20151211T080000
DTEND;TZID=UTC:20151211T170000
DTSTAMP:20260425T133218
CREATED:20151027T123705Z
LAST-MODIFIED:20151027T123730Z
UID:363-1449820800-1449853200@bhspta.org
SUMMARY:Movie Night at the Fire Station
DESCRIPTION:Movie Night at the Boston Harbor fire station.  Visit southbayfire.com for details!
URL:https://bhspta.org/events/movie-night-at-the-fire-station/
CATEGORIES:Community Fun
END:VEVENT
BEGIN:VEVENT
DTSTART;TZID=UTC:20151202T080000
DTEND;TZID=UTC:20151202T170000
DTSTAMP:20260425T133218
CREATED:20151027T134104Z
LAST-MODIFIED:20151027T134104Z
UID:365-1449043200-1449075600@bhspta.org
SUMMARY:Early Release
DESCRIPTION:Early Release Half Day for grades K-5th (no Preschool).  Dismissal @ 12:25.  Lunch will be served.
URL:https://bhspta.org/events/early-release-2/
CATEGORIES:District Calendar,Early Release
END:VEVENT
END:VCALENDAR